BEGIN:VCALENDAR
VERSION:2.0
PRODID:-//eventon.com NONSGML v1.0//EN
CALSCALE:GREGORIAN
METHOD:PUBLISH
BEGIN:VEVENT
UID:69e5a4ca813b8
DTSTAMP:20260420T040010Z
DTSTART:20260523T150000Z
DTEND:20260524T045900Z
LOCATION:Holybee Arena 2141 S.W.Wilshire Blvd Burleson\,  TX 76028
SUMMARY:TXPA Open High Point Playday
DESCRIPTION:Online Entries Open May 10th &nbsp;\nhttps://events.ebarrelraci
 ng.com/events/txpa-open-high-point-playday/
URL:https://events.ebarrelracing.com/events/txpa-open-high-point-playday/
END:VEVENT
END:VCALENDAR