BEGIN:VCALENDAR
VERSION:2.0
PRODID:-//eventon.com NONSGML v1.0//EN
CALSCALE:GREGORIAN
METHOD:PUBLISH
BEGIN:VEVENT
UID:69e8c3c98933e
DTSTAMP:20260422T124913Z
DTSTART:20260509T140000Z
DTEND:20260510T045900Z
LOCATION:Northcrest Equestrian Center 3900 CR 805 B Cleburne \,  TX 76301
SUMMARY:Rider For the MIND Barrel Race Colby Thomas Memorial
DESCRIPTION:Online Entries Open May 4-7 &nbsp;\nhttps://events.ebarrelracin
 g.com/events/rider-for-the-mind-barrel-race-colby-thomas-memorial/
URL:https://events.ebarrelracing.com/events/rider-for-the-mind-barrel-race-colby-thomas-memorial/
END:VEVENT
END:VCALENDAR