BEGIN:VCALENDAR
VERSION:2.0
PRODID:-//eventon.com NONSGML v1.0//EN
CALSCALE:GREGORIAN
METHOD:PUBLISH
BEGIN:VEVENT
UID:69e8df753f5a1
DTSTAMP:20260422T144717Z
DTSTART:20260701T150000Z
DTEND:20260702T045900Z
LOCATION:Northcrest Equestrian Center 3900 CR 805 B Cleburne \,  TX 76301
SUMMARY:Full Send Open & Yth Barrel Series July 1st
DESCRIPTION:ONLINE ENTRIES OPEN EVERY MONDAY BEFORE RACE 7am-9pm &nbsp; &nb
 sp;\nhttps://events.ebarrelracing.com/events/full-send-open-yth-barrel-seri
 es-july1/
URL:https://events.ebarrelracing.com/events/full-send-open-yth-barrel-series-july1/
END:VEVENT
END:VCALENDAR