BEGIN:VCALENDAR
VERSION:2.0
PRODID:-//eventon.com NONSGML v1.0//EN
CALSCALE:GREGORIAN
METHOD:PUBLISH
BEGIN:VEVENT
UID:69e8dd2e5486b
DTSTAMP:20260422T143734Z
DTSTART:20260617T150000Z
DTEND:20260618T045900Z
LOCATION:Northcrest Equestrian Center 3900 CR 805 B Cleburne \,  TX 76301
SUMMARY:Full Send Open & Yth Barrel Series June 17th
DESCRIPTION:ONLINE ENTRIES OPEN EVERY MONDAY BEFORE RACE 7am-9pm &nbsp;\nht
 tps://events.ebarrelracing.com/events/full-send-open-yth-barrel-series-june
 -17/
URL:https://events.ebarrelracing.com/events/full-send-open-yth-barrel-series-june-17/
END:VEVENT
END:VCALENDAR