BEGIN:VCALENDAR
VERSION:2.0
PRODID:-//eventon.com NONSGML v1.0//EN
CALSCALE:GREGORIAN
METHOD:PUBLISH
BEGIN:VEVENT
UID:69e8c42cb01d7
DTSTAMP:20260422T125052Z
DTSTART:20260603T150000Z
DTEND:20260604T045900Z
LOCATION:Northcrest Equestrian Center 3900 CR 805 B Cleburne \,  TX 76301
SUMMARY:Full Send Open & Yth Barrel Series June 3rd
DESCRIPTION:ONLINE ENTRIES OPEN EVERY MONDAY BEFORE RACE 7am-9pm &nbsp; &nb
 sp;\nhttps://events.ebarrelracing.com/events/full-send-open-yth-barrel-seri
 es-june3/
URL:https://events.ebarrelracing.com/events/full-send-open-yth-barrel-series-june3/
END:VEVENT
END:VCALENDAR