BEGIN:VCALENDAR
VERSION:2.0
PRODID:-//eventon.com NONSGML v1.0//EN
CALSCALE:GREGORIAN
METHOD:PUBLISH
BEGIN:VEVENT
UID:69e8c4662f5ef
DTSTAMP:20260422T125150Z
DTSTART:20260527T150000Z
DTEND:20260528T045900Z
LOCATION:Northcrest Equestrian Center 3900 CR 805 B Cleburne \,  TX 76301
SUMMARY:Full Throttle Buckle Series May 27th
DESCRIPTION:ONLINE ENTRIES OPEN EVERY MONDAY BEFORE RACE 7am-9pm &nbsp;\nht
 tps://events.ebarrelracing.com/events/full-throttle-buckle-series-may-27th/
URL:https://events.ebarrelracing.com/events/full-throttle-buckle-series-may-27th/
END:VEVENT
END:VCALENDAR