BEGIN:VCALENDAR
VERSION:2.0
PRODID:-//eventon.com NONSGML v1.0//EN
CALSCALE:GREGORIAN
METHOD:PUBLISH
BEGIN:VEVENT
UID:69e8ddd9a6549
DTSTAMP:20260422T144025Z
DTSTART:20260520T150000Z
DTEND:20260521T045900Z
LOCATION:Northcrest Equestrian Center 3900 CR 805 B Cleburne \,  TX 76301
SUMMARY:Full Throttle Buckle Series May 20th
DESCRIPTION:ONLINE ENTRIES OPEN EVERY MONDAY BEFORE RACE 7am-9pm &nbsp;\nht
 tps://events.ebarrelracing.com/events/full-throttle-buckle-series-20th/
URL:https://events.ebarrelracing.com/events/full-throttle-buckle-series-20th/
END:VEVENT
END:VCALENDAR