BEGIN:VCALENDAR
VERSION:2.0
PRODID:-//eventon.com NONSGML v1.0//EN
CALSCALE:GREGORIAN
METHOD:PUBLISH
BEGIN:VEVENT
UID:69e8c3cf437b5
DTSTAMP:20260422T124919Z
DTSTART:20260506T150000Z
DTEND:20260507T045900Z
LOCATION:Northcrest Equestrian Center 3900 CR 805 B Cleburne \,  TX 76301
SUMMARY:Full Throttle Buckle Series
DESCRIPTION:ONLINE ENTRIES OPEN EVERY MONDAY BEFORE RACE 7am-9pm &nbsp;\nht
 tps://events.ebarrelracing.com/events/full-throttle-buckle-series/
URL:https://events.ebarrelracing.com/events/full-throttle-buckle-series/
END:VEVENT
END:VCALENDAR