BEGIN:VCALENDAR
VERSION:2.0
PRODID:-//eventon.com NONSGML v1.0//EN
CALSCALE:GREGORIAN
METHOD:PUBLISH
BEGIN:VEVENT
UID:69e61c297e1b2
DTSTAMP:20260420T122929Z
DTSTART:20260426T130000Z
DTEND:20260427T045900Z
LOCATION:The Expo at Glen Rose 202 E Bo Gibbs Dr Glen Rose \,  TX 76043
SUMMARY:Sunday Money Run
DESCRIPTION:Online Entries Open April 20-24 &nbsp;\nhttps://events.ebarrelr
 acing.com/events/sunday-money-run/
URL:https://events.ebarrelracing.com/events/sunday-money-run/
END:VEVENT
END:VCALENDAR