BEGIN:VCALENDAR
VERSION:2.0
PRODID:-//eventon.com NONSGML v1.0//EN
CALSCALE:GREGORIAN
METHOD:PUBLISH
BEGIN:VEVENT
UID:69e8c48f0c052
DTSTAMP:20260422T125231Z
DTSTART:20260516T140000Z
DTEND:20260517T045900Z
LOCATION:(JCSP) Johnson County Sheriff's Posse Indoor &amp; Outdoor Arena 1315 S. Main St. Cleburne\,  TX 76031
SUMMARY:May Day Barrel Bash JCSP May 16th
DESCRIPTION:Online Entries coming soon &nbsp;\nhttps://events.ebarrelracing
 .com/events/may-day-barrel-bash-jcsp-may-16th/
URL:https://events.ebarrelracing.com/events/may-day-barrel-bash-jcsp-may-16th/
END:VEVENT
END:VCALENDAR