BEGIN:VCALENDAR
VERSION:2.0
PRODID:-//eventon.com NONSGML v1.0//EN
CALSCALE:GREGORIAN
METHOD:PUBLISH
BEGIN:VEVENT
UID:69e61c47f252f
DTSTAMP:20260420T122959Z
DTSTART:20260429T140000Z
DTEND:20260430T045900Z
LOCATION:The Expo at Glen Rose 202 E Bo Gibbs Dr Glen Rose \,  TX 76043
SUMMARY:Turning It Up Spring Series Race 4
DESCRIPTION:Online Entries Open Mondays prior to event from 7am-9pm &nbsp;\
 nhttps://events.ebarrelracing.com/events/turning-it-up-spring-series-race-4
 /
URL:https://events.ebarrelracing.com/events/turning-it-up-spring-series-race-4/
END:VEVENT
END:VCALENDAR