BEGIN:VCALENDAR
VERSION:2.0
PRODID:-//eventon.com NONSGML v1.0//EN
CALSCALE:GREGORIAN
METHOD:PUBLISH
BEGIN:VEVENT
UID:69e4de72435fc
DTSTAMP:20260419T135354Z
DTSTART:20250718T220000Z
DTEND:20250721T045900Z
LOCATION:Henderson County Fair Park 3356 Hwy 31 East Athens\,  TX 75751
SUMMARY:Rush Herrington Memorial July 18th-20th
DESCRIPTION:Rush Herrington Memorial July 18th-20th\nhttps://events.ebarrel
 racing.com/events/rush-herrington-memorial-july-18th-20th/
URL:https://events.ebarrelracing.com/events/rush-herrington-memorial-july-18th-20th/
END:VEVENT
END:VCALENDAR