BEGIN:VCALENDAR
VERSION:2.0
PRODID:-//eventon.com NONSGML v1.0//EN
CALSCALE:GREGORIAN
METHOD:PUBLISH
BEGIN:VEVENT
UID:69ecde24cd84d
DTSTAMP:20260425T153044Z
DTSTART:20240925T130000Z
DTEND:20240926T030000Z
LOCATION:Four States Fair Grounds 3700 East 50th.St Texarkana\,  Arkanasas 71854
SUMMARY:Texarkana Showdown
DESCRIPTION:Texarkana Showdown\nhttps://events.ebarrelracing.com/events/tex
 arkana-showdown/
URL:https://events.ebarrelracing.com/events/texarkana-showdown/
END:VEVENT
END:VCALENDAR