BEGIN:VCALENDAR
VERSION:2.0
PRODID:-//eventon.com NONSGML v1.0//EN
CALSCALE:GREGORIAN
METHOD:PUBLISH
BEGIN:VEVENT
UID:69e7afe8250af
DTSTAMP:20260421T171208Z
DTSTART:20240614T170000Z
DTEND:20240616T133000Z
LOCATION:Four States Fair Grounds 3700 East 50th.St Texarkana\,  Arkanasas 71854
SUMMARY:17th Annual Runnin WJ Benefit Barrel Race $12\, 000 Added Open 5D
DESCRIPTION:Save the dates for 17th Annual Runnin WJ Benefit Barrel Race $1
 2 Added 5D Open\,  plus Future Fortunes $50K Added Sidepot for FF horses. T
 hursday June 13th evening KK Run For Vegas. RWJ Open Fee $50 per horse/per 
 rider\,  Stall Fee $30 per night\,  RV Fee $30 per night\,  Shaving[..]\nht
 tps://events.ebarrelracing.com/events/17th-annual-runnin-wj-benefit-barrel-
 race-12000-added-open-5d/
URL:https://events.ebarrelracing.com/events/17th-annual-runnin-wj-benefit-barrel-race-12000-added-open-5d/
END:VEVENT
END:VCALENDAR