BEGIN:VCALENDAR
VERSION:2.0
PRODID:-//eventon.com NONSGML v1.0//EN
CALSCALE:GREGORIAN
METHOD:PUBLISH
BEGIN:VEVENT
UID:69ed71f8046fa
DTSTAMP:20260426T020128Z
DTSTART:20240124T140000Z
DTEND:20240125T020000Z
LOCATION:Four States Fair Grounds 3700 East 50th.St Texarkana\,  Arkanasas 71854
SUMMARY:Texarkana Showdown Jan 24-27
DESCRIPTION:Online Entries ARE CLOSED\,  ENTER BEFORE THE 1ST HORSE RUNS. 
   ANY QUESTIONS CALL CALLIE (318) 465-5857 DRAW IS POSTED\nhttps://events.
 ebarrelracing.com/events/texarkana-showdown-jan-2024/
URL:https://events.ebarrelracing.com/events/texarkana-showdown-jan-2024/
END:VEVENT
END:VCALENDAR