BEGIN:VCALENDAR
VERSION:2.0
PRODID:-//eventon.com NONSGML v1.0//EN
CALSCALE:GREGORIAN
METHOD:PUBLISH
BEGIN:VEVENT
UID:69e7b0047ee42
DTSTAMP:20260421T171236Z
DTSTART:20230601T140000Z
DTEND:20230602T045900Z
LOCATION:Park Your Pony 536 CR 483 Stephenville\,  Texas 76401
SUMMARY:Park Your Pony Thur Jackpots Morning and Evening
DESCRIPTION:4D JACKPOT $35 Entry Fee $5.00 Office Fee $5.00 Exhibitions 8O%
  Progressive payout THURSDAY JACKPOTS Morning and Evening Pre-Entries Wedne
 sday Walk ups Welcome SCHEDULE 9 AM &#8211; 10:30 AM Early exh. 30-minute t
 ime-slots (25 on a page) 11 AM- 40 Slack Jackpot Limited to 150 draw number
 s (40/ hour) Some[..]\nhttps://events.ebarrelracing.com/events/park-your-po
 ny-thur-jackpots/
URL:https://events.ebarrelracing.com/events/park-your-pony-thur-jackpots/
END:VEVENT
END:VCALENDAR