BEGIN:VCALENDAR
VERSION:2.0
PRODID:-//eventon.com NONSGML v1.0//EN
CALSCALE:GREGORIAN
METHOD:PUBLISH
BEGIN:VEVENT
UID:69ecef7eac253
DTSTAMP:20260425T164446Z
DTSTART:20231020T050100Z
DTEND:20231022T045900Z
LOCATION:Marshall City Arena 3310 Popular Street Marshall\,  TX 75671
SUMMARY:Spooktacular Wild Card & BBR Xtra Series
DESCRIPTION:2023 2Heartsbarrelracing remaining Event dates!!!!! Sept 16 Goo
 fy Goat Online Entries Oct 20-21 Spooktacular Wild Card &amp; BBR Xtra Seri
 es Online Entries Click here for the wild card draw Click here for the open
  draw\nhttps://events.ebarrelracing.com/events/spooktacular-bonanza/
URL:https://events.ebarrelracing.com/events/spooktacular-bonanza/
END:VEVENT
END:VCALENDAR