BEGIN:VCALENDAR
VERSION:2.0
PRODID:-//eventon.com NONSGML v1.0//EN
CALSCALE:GREGORIAN
METHOD:PUBLISH
BEGIN:VEVENT
UID:69e6396cabfba
DTSTAMP:20260420T143420Z
DTSTART:20220907T200000Z
DTEND:20220908T044600Z
LOCATION:
SUMMARY:Rafter E Productions JLK Events Center
DESCRIPTION:Rafter E Productions JLK Events Center\nhttps://events.ebarrelr
 acing.com/events/rafter-e-productions-jlk-events-center/
URL:https://events.ebarrelracing.com/events/rafter-e-productions-jlk-events-center/
END:VEVENT
END:VCALENDAR