BEGIN:VCALENDAR
VERSION:2.0
PRODID:-//eventon.com NONSGML v1.0//EN
CALSCALE:GREGORIAN
METHOD:PUBLISH
BEGIN:VEVENT
UID:69ec2574025ef
DTSTAMP:20260425T022244Z
DTSTART:20221001T143000Z
DTEND:20221002T045000Z
LOCATION:Angleton Fairgrounds 901 South Downing Rd Angleton\,  Tx 77515
SUMMARY:Brazoria County Fair Barrel Race
DESCRIPTION:Brazoria County Fair Barrel Race\nhttps://events.ebarrelracing.
 com/events/brazoria-county-fair-barrel-race/
URL:https://events.ebarrelracing.com/events/brazoria-county-fair-barrel-race/
END:VEVENT
END:VCALENDAR