BEGIN:VCALENDAR
VERSION:2.0
PRODID:-//eventon.com NONSGML v1.0//EN
CALSCALE:GREGORIAN
METHOD:PUBLISH
BEGIN:VEVENT
UID:69e638081a1d0
DTSTAMP:20260420T142824Z
DTSTART:20220423T050100Z
DTEND:20220424T045000Z
LOCATION:Seminole Rodeo Arena 189 CR 103 Seminole\,  TX 79360
SUMMARY:The Bettys Races
DESCRIPTION:&nbsp; Pre entries and expos www.thebettysraces.com $100 Added 
 Books open at 9 exhibitions 930-12 race at 1230 Run Order: BBHH $10 Youth 3
 D 13&amp; under $20 Open 4D $40 Office $10 Exhibitions $5\nhttps://events.e
 barrelracing.com/events/the-bettys-races/
URL:https://events.ebarrelracing.com/events/the-bettys-races/
END:VEVENT
END:VCALENDAR